BEGIN:VCALENDAR
VERSION:2.0
PRODID:-//MidCoast Area of NA - ECPv6.15.20//NONSGML v1.0//EN
CALSCALE:GREGORIAN
METHOD:PUBLISH
X-WR-CALNAME:MidCoast Area of NA
X-ORIGINAL-URL:https://midcoastarea.org
X-WR-CALDESC:Events for MidCoast Area of NA
REFRESH-INTERVAL;VALUE=DURATION:PT1H
X-Robots-Tag:noindex
X-PUBLISHED-TTL:PT1H
BEGIN:VTIMEZONE
TZID:America/New_York
BEGIN:DAYLIGHT
TZOFFSETFROM:-0500
TZOFFSETTO:-0400
TZNAME:EDT
DTSTART:20230312T070000
END:DAYLIGHT
BEGIN:STANDARD
TZOFFSETFROM:-0400
TZOFFSETTO:-0500
TZNAME:EST
DTSTART:20231105T060000
END:STANDARD
BEGIN:DAYLIGHT
TZOFFSETFROM:-0500
TZOFFSETTO:-0400
TZNAME:EDT
DTSTART:20240310T070000
END:DAYLIGHT
BEGIN:STANDARD
TZOFFSETFROM:-0400
TZOFFSETTO:-0500
TZNAME:EST
DTSTART:20241103T060000
END:STANDARD
BEGIN:DAYLIGHT
TZOFFSETFROM:-0500
TZOFFSETTO:-0400
TZNAME:EDT
DTSTART:20250309T070000
END:DAYLIGHT
BEGIN:STANDARD
TZOFFSETFROM:-0400
TZOFFSETTO:-0500
TZNAME:EST
DTSTART:20251102T060000
END:STANDARD
END:VTIMEZONE
BEGIN:VEVENT
DTSTART;TZID=America/New_York:20240629T110000
DTEND;TZID=America/New_York:20240629T110000
DTSTAMP:20260423T143735
CREATED:20240208T171603Z
LAST-MODIFIED:20240208T171603Z
UID:216160-1719658800-1719658800@midcoastarea.org
SUMMARY:Summer Beach Party!
DESCRIPTION:
URL:https://midcoastarea.org/event/summer-beach-party/
LOCATION:Pelican Pavillion\, 9952 N. Ocean Drive\, Dania Beach\, Florida\, 33004
END:VEVENT
BEGIN:VEVENT
DTSTART;TZID=America/New_York:20240518T180000
DTEND;TZID=America/New_York:20240518T180000
DTSTAMP:20260423T143735
CREATED:20231209T093741Z
LAST-MODIFIED:20240414T230717Z
UID:216048-1716055200-1716055200@midcoastarea.org
SUMMARY:Sponsor/Sponsee Dinner
DESCRIPTION:Starts at 6:00 PM
URL:https://midcoastarea.org/event/sponsor-sponsee-dinner/
LOCATION:Church of the Palms\, 1960 N Swinton Ave\, Delray Beach\, FL\, 33444\, United States
END:VEVENT
END:VCALENDAR