BEGIN:VCALENDAR
VERSION:2.0
PRODID:-//MidCoast Area of NA - ECPv6.15.20//NONSGML v1.0//EN
CALSCALE:GREGORIAN
METHOD:PUBLISH
X-WR-CALNAME:MidCoast Area of NA
X-ORIGINAL-URL:https://midcoastarea.org
X-WR-CALDESC:Events for MidCoast Area of NA
REFRESH-INTERVAL;VALUE=DURATION:PT1H
X-Robots-Tag:noindex
X-PUBLISHED-TTL:PT1H
BEGIN:VTIMEZONE
TZID:America/New_York
BEGIN:DAYLIGHT
TZOFFSETFROM:-0500
TZOFFSETTO:-0400
TZNAME:EDT
DTSTART:20250309T070000
END:DAYLIGHT
BEGIN:STANDARD
TZOFFSETFROM:-0400
TZOFFSETTO:-0500
TZNAME:EST
DTSTART:20251102T060000
END:STANDARD
BEGIN:DAYLIGHT
TZOFFSETFROM:-0500
TZOFFSETTO:-0400
TZNAME:EDT
DTSTART:20260308T070000
END:DAYLIGHT
BEGIN:STANDARD
TZOFFSETFROM:-0400
TZOFFSETTO:-0500
TZNAME:EST
DTSTART:20261101T060000
END:STANDARD
BEGIN:DAYLIGHT
TZOFFSETFROM:-0500
TZOFFSETTO:-0400
TZNAME:EDT
DTSTART:20270314T070000
END:DAYLIGHT
BEGIN:STANDARD
TZOFFSETFROM:-0400
TZOFFSETTO:-0500
TZNAME:EST
DTSTART:20271107T060000
END:STANDARD
END:VTIMEZONE
BEGIN:VEVENT
DTSTART;TZID=America/New_York:20260620T180000
DTEND;TZID=America/New_York:20260620T213000
DTSTAMP:20260421T095721
CREATED:20260420T190214Z
LAST-MODIFIED:20260420T190220Z
UID:216937-1781978400-1781991000@midcoastarea.org
SUMMARY:Chilli Cook-Off
DESCRIPTION:Chilli Cook-Off\n@ The Old Pizza Hut Church \n \n 
URL:https://midcoastarea.org/event/chilli-cook-off/
LOCATION:Church of Our Savior\, 2011 Federal Highway\, Boynton Beach\, FL\, 33435\, United States
END:VEVENT
BEGIN:VEVENT
DTSTART;TZID=America/New_York:20260919T110000
DTEND;TZID=America/New_York:20260919T190000
DTSTAMP:20260421T095721
CREATED:20250625T201032Z
LAST-MODIFIED:20260309T210548Z
UID:216557-1789815600-1789844400@midcoastarea.org
SUMMARY:United We Slide 3
DESCRIPTION:Buffet Lunch Included\nWater Park Slide Event\nAreas Included: South Dade\, South Atlantic\, Gold Coast\, Mid-Coast\, Palm Coast\, Treasure Coast \n￼ \nSales end August 10th \nFree Parking \nMore Information\nTony V 954-299-6853\nTraci W 239-821-6847
URL:https://midcoastarea.org/event/united-we-slide-2/
LOCATION:Rapids Water Park\, 6566 North Military Trail\, Riviera Beach\, FL\, 33407
END:VEVENT
END:VCALENDAR