BEGIN:VCALENDAR
VERSION:2.0
PRODID:-//MidCoast Area of NA - ECPv6.15.20//NONSGML v1.0//EN
CALSCALE:GREGORIAN
METHOD:PUBLISH
X-ORIGINAL-URL:https://midcoastarea.org
X-WR-CALDESC:Events for MidCoast Area of NA
REFRESH-INTERVAL;VALUE=DURATION:PT1H
X-Robots-Tag:noindex
X-PUBLISHED-TTL:PT1H
BEGIN:VTIMEZONE
TZID:America/New_York
BEGIN:DAYLIGHT
TZOFFSETFROM:-0500
TZOFFSETTO:-0400
TZNAME:EDT
DTSTART:20240310T070000
END:DAYLIGHT
BEGIN:STANDARD
TZOFFSETFROM:-0400
TZOFFSETTO:-0500
TZNAME:EST
DTSTART:20241103T060000
END:STANDARD
BEGIN:DAYLIGHT
TZOFFSETFROM:-0500
TZOFFSETTO:-0400
TZNAME:EDT
DTSTART:20250309T070000
END:DAYLIGHT
BEGIN:STANDARD
TZOFFSETFROM:-0400
TZOFFSETTO:-0500
TZNAME:EST
DTSTART:20251102T060000
END:STANDARD
BEGIN:DAYLIGHT
TZOFFSETFROM:-0500
TZOFFSETTO:-0400
TZNAME:EDT
DTSTART:20260308T070000
END:DAYLIGHT
BEGIN:STANDARD
TZOFFSETFROM:-0400
TZOFFSETTO:-0500
TZNAME:EST
DTSTART:20261101T060000
END:STANDARD
BEGIN:DAYLIGHT
TZOFFSETFROM:-0500
TZOFFSETTO:-0400
TZNAME:EDT
DTSTART:20270314T070000
END:DAYLIGHT
BEGIN:STANDARD
TZOFFSETFROM:-0400
TZOFFSETTO:-0500
TZNAME:EST
DTSTART:20271107T060000
END:STANDARD
END:VTIMEZONE
BEGIN:VEVENT
DTSTART;TZID=America/New_York:20250322T170000
DTEND;TZID=America/New_York:20250322T210000
DTSTAMP:20260421T144112
CREATED:20250309T044616Z
LAST-MODIFIED:20250309T050822Z
UID:216419-1742662800-1742677200@midcoastarea.org
SUMMARY:MCCNA Sponsor Family Dinner
DESCRIPTION:MCCNA Sponsor Family Dinner \nDouble Speaker \n \n$15 in advance or $20 at the door \n 
URL:https://midcoastarea.org/event/mccna-sponsor-family-dinner/
LOCATION:Church of the Palms\, 1960 N Swinton Ave\, Delray Beach\, FL\, 33444\, United States
END:VEVENT
BEGIN:VEVENT
DTSTART;TZID=America/New_York:20250426T190000
DTEND;TZID=America/New_York:20250426T220000
DTSTAMP:20260421T144112
CREATED:20250416T000827Z
LAST-MODIFIED:20250416T001413Z
UID:216521-1745694000-1745704800@midcoastarea.org
SUMMARY:GENERATIONS TRIVIA GAME NIGHT
DESCRIPTION:GENERATIONS TRIVIA GAME NIGHT
URL:https://midcoastarea.org/event/generations-trivia-game-night/
LOCATION:Common Grounds Church\, 1201 Federal Highway\, Lake Worth\, FL\, 33460\, United States
END:VEVENT
BEGIN:VEVENT
DTSTART;TZID=America/New_York:20250510T180000
DTEND;TZID=America/New_York:20250510T223000
DTSTAMP:20260421T144112
CREATED:20241109T001845Z
LAST-MODIFIED:20241109T001845Z
UID:216319-1746900000-1746916200@midcoastarea.org
SUMMARY:The Sarge is Back
DESCRIPTION:MCCNA PRESENTS – THE SARGE IS BACK \nGet ready to LOL \n \n 
URL:https://midcoastarea.org/event/the-sarge-is-back/
LOCATION:Lake Worth Playhouse\, 713 Lake Ave\, Lake Worth\, FL\, 33460\, United States
END:VEVENT
BEGIN:VEVENT
DTSTART;TZID=America/New_York:20250531T190000
DTEND;TZID=America/New_York:20250531T210000
DTSTAMP:20260421T144112
CREATED:20250519T224110Z
LAST-MODIFIED:20250519T224200Z
UID:216545-1748718000-1748725200@midcoastarea.org
SUMMARY:Bingo Night
DESCRIPTION:
URL:https://midcoastarea.org/event/bingo-night/
LOCATION:Church of Our Savior\, 2011 Federal Highway\, Boynton Beach\, FL\, 33435\, United States
END:VEVENT
BEGIN:VEVENT
DTSTART;TZID=America/New_York:20250608T103000
DTEND;TZID=America/New_York:20250608T170000
DTSTAMP:20260421T144112
CREATED:20250519T223231Z
LAST-MODIFIED:20250519T224259Z
UID:216542-1749378600-1749402000@midcoastarea.org
SUMMARY:Sun ~ Sensational Summer Party
DESCRIPTION:Party and celebrate NA. Lots of food fun and fellowship\, and a bonus ASC Meeting if you are interested in NA Service. \n  \nPavilion: Miramar Pine Land ME Shelter 03
URL:https://midcoastarea.org/event/sun-sensational-summer-party/
LOCATION:Quiet Waters State Park\, 401 South Powerline Road\, Deerfield Beach\, 33442\, United States
END:VEVENT
BEGIN:VEVENT
DTSTART;VALUE=DATE:20250725
DTEND;VALUE=DATE:20250728
DTSTAMP:20260421T144112
CREATED:20250701T203103Z
LAST-MODIFIED:20250701T203309Z
UID:216571-1753401600-1753660799@midcoastarea.org
SUMMARY:MCCNA Miracles of Recovery Convention
DESCRIPTION:
URL:https://midcoastarea.org/event/mccna-miracles-of-recovery-convention/
LOCATION:Airport Hilton\, 150 Australian Ave\, West Palm Beach\, FL\, FL\, 33406\, United States
END:VEVENT
BEGIN:VEVENT
DTSTART;TZID=America/New_York:20250920T180000
DTEND;TZID=America/New_York:20250920T213000
DTSTAMP:20260421T144112
CREATED:20250815T070229Z
LAST-MODIFIED:20250815T070229Z
UID:216625-1758391200-1758403800@midcoastarea.org
SUMMARY:Chilli Cook-off * Dominoes & Spades Tournament & Basic Deck
DESCRIPTION:Chilli Cook-off * Dominoes & Spades Tournament \nSpecial Appearance by Basic Deck
URL:https://midcoastarea.org/event/chilli-cook-off-dominoes-spades-tournament-basic-deck/
LOCATION:Church of Our Savior\, 2011 Federal Highway\, Boynton Beach\, FL\, 33435\, United States
END:VEVENT
BEGIN:VEVENT
DTSTART;TZID=America/New_York:20251012T183000
DTEND;TZID=America/New_York:20251012T200000
DTSTAMP:20260421T144112
CREATED:20250916T205320Z
LAST-MODIFIED:20250916T205614Z
UID:216678-1760293800-1760299200@midcoastarea.org
SUMMARY:Florida Region Corrections Work Group
DESCRIPTION:Florida Region Corrections Work Group\nVirtual Meeting Passcode: 111111 \n \n 
URL:https://midcoastarea.org/event/region-corrections-work-group/
LOCATION:FL
END:VEVENT
BEGIN:VEVENT
DTSTART;TZID=America/New_York:20251025T110000
DTEND;TZID=America/New_York:20251025T150000
DTSTAMP:20260421T144112
CREATED:20250916T211902Z
LAST-MODIFIED:20250916T212128Z
UID:216686-1761390000-1761404400@midcoastarea.org
SUMMARY:The Breakfast Club Annual Picnic
DESCRIPTION:The Breakfast Club Annual Picnic\nFood\, Fun\, and Fellowship
URL:https://midcoastarea.org/event/the-breakfast-club-annual-picnic/
LOCATION:Lake Ida Park Heron Pavilion\, 1455 Lake Ida Road\, Delray Beach\, FL\, 33444\, United States
END:VEVENT
BEGIN:VEVENT
DTSTART;TZID=America/New_York:20251101T110000
DTEND;TZID=America/New_York:20251101T150000
DTSTAMP:20260421T144112
CREATED:20251012T073630Z
LAST-MODIFIED:20251012T074034Z
UID:216703-1761994800-1762009200@midcoastarea.org
SUMMARY:Got Recovery? Annual Picnic
DESCRIPTION:Got Recovery? Annual Picnic \n \nFree Admission \n 
URL:https://midcoastarea.org/event/got-recovery-annual-picnic/
LOCATION:Lake Ida Park Heron Pavilion\, 1455 Lake Ida Road\, Delray Beach\, FL\, 33444\, United States
END:VEVENT
BEGIN:VEVENT
DTSTART;TZID=America/New_York:20251127T110000
DTEND;TZID=America/New_York:20251127T130000
DTSTAMP:20260421T144112
CREATED:20250731T204844Z
LAST-MODIFIED:20251102T005849Z
UID:216602-1764241200-1764248400@midcoastarea.org
SUMMARY:Thanksgiving Day Luncheon
DESCRIPTION:Thanksgiving Day Luncheon\n \n11:00am to 1:00pm
URL:https://midcoastarea.org/event/thanksgiving-lunch/
LOCATION:The Crossroads Club\, 1700 Lake Ida Road\, Delray Beach\, FL\, 33445\, United States
END:VEVENT
BEGIN:VEVENT
DTSTART;TZID=America/New_York:20251224T203000
DTEND;TZID=America/New_York:20251224T213000
DTSTAMP:20260421T144112
CREATED:20251221T204103Z
LAST-MODIFIED:20251221T204103Z
UID:216802-1766608200-1766611800@midcoastarea.org
SUMMARY:Christmas Eve Meeting/Party
DESCRIPTION:Christmas Eve Meeting/Party Food\, Fellowship\, and Love\n \n  \n 
URL:https://midcoastarea.org/event/christmas-eve-meeting-party/
LOCATION:The Crossroads Club\, 1700 Lake Ida Road\, Delray Beach\, FL\, 33445\, United States
END:VEVENT
BEGIN:VEVENT
DTSTART;TZID=America/New_York:20251231T220000
DTEND;TZID=America/New_York:20260101T013000
DTSTAMP:20260421T144112
CREATED:20250731T205003Z
LAST-MODIFIED:20251102T011501Z
UID:216604-1767218400-1767231000@midcoastarea.org
SUMMARY:2026 New Years Party
DESCRIPTION:2026 New Years Party
URL:https://midcoastarea.org/event/new-years-marathon-meetings/
LOCATION:Church of Our Savior\, 2011 Federal Highway\, Boynton Beach\, FL\, 33435\, United States
END:VEVENT
BEGIN:VEVENT
DTSTART;TZID=America/New_York:20260125T110000
DTEND;TZID=America/New_York:20260125T170000
DTSTAMP:20260421T144112
CREATED:20260112T041557Z
LAST-MODIFIED:20260112T041648Z
UID:216816-1769338800-1769360400@midcoastarea.org
SUMMARY:Hispanos en Progresso - Annual Picnic
DESCRIPTION:Hispanos en Progresso – Annual Picnic\nPot Luck\, bring a dish\, beverages\, and a chair – 11:00am – 5:00pm \n \n  \n 
URL:https://midcoastarea.org/event/hispanos-en-progresso-annual-picnic/
LOCATION:Burt Aaronson South County Park\, 11200 Park Access Road\, Boca Raton\, FL\, 33498\, United States
END:VEVENT
BEGIN:VEVENT
DTSTART;TZID=America/New_York:20260214T180000
DTEND;TZID=America/New_York:20260214T213000
DTSTAMP:20260421T144112
CREATED:20260112T035905Z
LAST-MODIFIED:20260112T040843Z
UID:216811-1771092000-1771104600@midcoastarea.org
SUMMARY:Entertainment for the Heart - Valentine's Day
DESCRIPTION:Entertainment for the Heart – Valentine’s Day\nStarts at 6:00pm\, dinner at 6:30pm\, entertainment comedy at 7:00pm\, speaker at 8:15pm
URL:https://midcoastarea.org/event/entertainment-for-the-heart-valentines-day/
LOCATION:Church of Our Savior\, 2011 Federal Highway\, Boynton Beach\, FL\, 33435\, United States
END:VEVENT
BEGIN:VEVENT
DTSTART;TZID=America/New_York:20260321T170000
DTEND;TZID=America/New_York:20260321T200000
DTSTAMP:20260421T144112
CREATED:20250811T212153Z
LAST-MODIFIED:20260318T145512Z
UID:216613-1774112400-1774123200@midcoastarea.org
SUMMARY:MCCNA Annual Sponsorship Family Dinner
DESCRIPTION:MCCNA Annual Sponsorship Family Dinner\n\nSaturday March 21st at 5:00PM \nTickets are $15 in advance and $20 at the door
URL:https://midcoastarea.org/event/mccna-halloween-party-2/
LOCATION:Church of the Palms\, 1960 N Swinton Ave\, Delray Beach\, FL\, 33444\, United States
END:VEVENT
BEGIN:VEVENT
DTSTART;TZID=America/New_York:20260418T180000
DTEND;TZID=America/New_York:20260418T210000
DTSTAMP:20260421T144112
CREATED:20260218T232353Z
LAST-MODIFIED:20260218T232438Z
UID:216872-1776535200-1776546000@midcoastarea.org
SUMMARY:Spring Bingo Night
DESCRIPTION:Spring Bingo Night\n@ the Pizza Hut Church \nFree Entry
URL:https://midcoastarea.org/event/spring-bingo-night/
LOCATION:Church of Our Savior\, 2011 Federal Highway\, Boynton Beach\, FL\, 33435\, United States
END:VEVENT
BEGIN:VEVENT
DTSTART;TZID=America/New_York:20260421T190000
DTEND;TZID=America/New_York:20260421T200000
DTSTAMP:20260421T144112
CREATED:20250715T172541Z
LAST-MODIFIED:20260412T080913Z
UID:216587-1776798000-1776801600@midcoastarea.org
SUMMARY:MCCNA Convention Sub Committee
DESCRIPTION:The MCCNA Planning Sub Committee meets the 1st and 3rd Tuesday of each month at 7:00 pm @ the Panera Bread \n 
URL:https://midcoastarea.org/event/mccna-convention-committee/
LOCATION:Panera Bread\, 548 Woolbright Road\, Boynton Beach\, FL\, 33431\, United States
END:VEVENT
BEGIN:VEVENT
DTSTART;TZID=America/New_York:20260502T183000
DTEND;TZID=America/New_York:20260502T203000
DTSTAMP:20260421T144112
CREATED:20260420T160426Z
LAST-MODIFIED:20260420T161704Z
UID:216914-1777746600-1777753800@midcoastarea.org
SUMMARY:Comedy Night with David Stebbins - MCCNA
DESCRIPTION:Comedy Night with David Stebbins – MCCNA\n \nAdvance Tickets
URL:https://midcoastarea.org/event/comedy-night-with-david-stebbins-mccna/
LOCATION:Church of the Palms\, 1960 N Swinton Ave\, Delray Beach\, FL\, 33444\, United States
END:VEVENT
BEGIN:VEVENT
DTSTART;TZID=America/New_York:20260502T190000
DTEND;TZID=America/New_York:20260502T200000
DTSTAMP:20260421T144112
CREATED:20251012T072546Z
LAST-MODIFIED:20260420T185831Z
UID:216698-1777748400-1777752000@midcoastarea.org
SUMMARY:Activities  Sub Committee
DESCRIPTION:Activities Subcommittee \nHave fun helping to develop fun events \nThe 1st and 3rd Saturday of each month  Virtual Meeting \nPasscode: 220063
URL:https://midcoastarea.org/event/activities-subcommittee/
LOCATION:FL
END:VEVENT
BEGIN:VEVENT
DTSTART;TZID=America/New_York:20260504T203000
DTEND;TZID=America/New_York:20260504T210000
DTSTAMP:20260421T144112
CREATED:20250708T010549Z
LAST-MODIFIED:20260412T081056Z
UID:216584-1777926600-1777928400@midcoastarea.org
SUMMARY:Hospitals and Institutions Sub Committee
DESCRIPTION:A way to provide recovery to people in jails\, treatment centers\, and other institutions. \nOpen Positions: \nVice Chairperson – Suggested 1 year clean\nSecretary – suggested 6 months clean\nLiterature Chair – suggested 6 months clean\nMeeting Sponsor – suggested 9 months clean\nPanel Members – willingness to serve\, follow facility guidelines\nChair People for H & I Meetings – 9 months suggested clean time\n* Speakers for H & I Meetings – 6 months suggested clean time\n** Some facilities have their own time guidelines and requirements \nSub Committee Meeting meets the first Monday of every Month at 8:30 PM\, in Conference Room E. \n \n \n 
URL:https://midcoastarea.org/event/hospitals-and-institutions-sub-committee/
LOCATION:The Crossroads Club\, 1700 Lake Ida Road\, Delray Beach\, FL\, 33445\, United States
END:VEVENT
BEGIN:VEVENT
DTSTART;TZID=America/New_York:20260510T130000
DTEND;TZID=America/New_York:20260510T143000
DTSTAMP:20260421T144112
CREATED:20241015T201134Z
LAST-MODIFIED:20260420T162808Z
UID:216306-1778418000-1778423400@midcoastarea.org
SUMMARY:Area Service Committee Meeting (ASC)
DESCRIPTION:Celebrate service in NA. Lots of fun\, lots of open positions\, lots of opportunities to be of service. \nIn honor of Mother Day\, the meeting will be a hybrid meeting with Virtual Attendance available. \nhttps://us06web.zoom.us/j/9143664004?omn=83067735650\n\nMeeting ID: 914 366 4004\nJoin instructions\nhttps://us06web.zoom.us/meetings/83067735650/invitations?signature=BWZFDDR4_2g6s7WUT6V1jJC9rM8x68CVvr27SskWq_A\n \nFun Fellowship and lots of Open Positions for anybody who wants to get their recovery service on\nAlternate Secretary – Suggested 1 year clean\nLiterature Chair – suggested 6 months clean\nAlternate Literature Chair – suggested 6 months clean\nAlternate Treasurer – Suggested 3 years clean\nAlternate Policy Person – Suggested 2 years Clean\nMember at Large (MAL) – Suggested 5 Years Clean\nOutreach Person – Willingness and desire to serve \nHospitals and Institutions (H & I) Vice Chairperson – Suggested 1 year clean\nMeeting Sponsor – suggested 9 months clean\nPanel Members – willingness to serve\, follow facility guidelines\nChair People for H & I Meetings – 9 months suggested clean time\n* Speakers for H & I Meetings – 6 months suggested clean time\n** Some facilities have their own time guidelines and requirements \nPublic Information (PI) & Helpline Chair – suggested 1 year clean\nAlternate Chair – suggested 1 year clean\nSecretary – suggested 6 months clean\nPhone line volunteers – suggested 1 year clean\nMembers – willingness to serve \nLiterature Review Chairperson – willingness to serve\nVice Chairperson\nSecretary \nNewsletter Editor\, Layout person\, treasurer – willingness to serve\nLiterature Distribution Chairperson – suggested 2 years clean\nLiterature Distribution Vice Chairperson – suggested 1 years clean \nMIDCOAST AREA CONVENTION (MCCNA)\nSerenity Keeper Chair \nInternet Administrator – Suggested 1 year Clean\nInternet Administrator Alternate – Suggested 6 months clean
URL:https://midcoastarea.org/event/area-service-committee-meeting-asc/
LOCATION:Lyons Club\, 399 NW 35th Street\, Boca Raton\, FL\, 33431\, United States
END:VEVENT
BEGIN:VEVENT
DTSTART;TZID=America/New_York:20260620T180000
DTEND;TZID=America/New_York:20260620T213000
DTSTAMP:20260421T144112
CREATED:20260420T190214Z
LAST-MODIFIED:20260420T190220Z
UID:216937-1781978400-1781991000@midcoastarea.org
SUMMARY:Chilli Cook-Off
DESCRIPTION:Chilli Cook-Off\n@ The Old Pizza Hut Church \n \n 
URL:https://midcoastarea.org/event/chilli-cook-off/
LOCATION:Church of Our Savior\, 2011 Federal Highway\, Boynton Beach\, FL\, 33435\, United States
END:VEVENT
BEGIN:VEVENT
DTSTART;TZID=America/New_York:20260919T110000
DTEND;TZID=America/New_York:20260919T190000
DTSTAMP:20260421T144112
CREATED:20250625T201032Z
LAST-MODIFIED:20260309T210548Z
UID:216557-1789815600-1789844400@midcoastarea.org
SUMMARY:United We Slide 3
DESCRIPTION:Buffet Lunch Included\nWater Park Slide Event\nAreas Included: South Dade\, South Atlantic\, Gold Coast\, Mid-Coast\, Palm Coast\, Treasure Coast \n￼ \nSales end August 10th \nFree Parking \nMore Information\nTony V 954-299-6853\nTraci W 239-821-6847
URL:https://midcoastarea.org/event/united-we-slide-2/
LOCATION:Rapids Water Park\, 6566 North Military Trail\, Riviera Beach\, FL\, 33407
END:VEVENT
END:VCALENDAR