BEGIN:VCALENDAR
VERSION:2.0
PRODID:-//MidCoast Area of NA - ECPv6.15.20//NONSGML v1.0//EN
CALSCALE:GREGORIAN
METHOD:PUBLISH
X-WR-CALNAME:MidCoast Area of NA
X-ORIGINAL-URL:https://midcoastarea.org
X-WR-CALDESC:Events for MidCoast Area of NA
REFRESH-INTERVAL;VALUE=DURATION:PT1H
X-Robots-Tag:noindex
X-PUBLISHED-TTL:PT1H
BEGIN:VTIMEZONE
TZID:America/New_York
BEGIN:DAYLIGHT
TZOFFSETFROM:-0500
TZOFFSETTO:-0400
TZNAME:EDT
DTSTART:20250309T070000
END:DAYLIGHT
BEGIN:STANDARD
TZOFFSETFROM:-0400
TZOFFSETTO:-0500
TZNAME:EST
DTSTART:20251102T060000
END:STANDARD
BEGIN:DAYLIGHT
TZOFFSETFROM:-0500
TZOFFSETTO:-0400
TZNAME:EDT
DTSTART:20260308T070000
END:DAYLIGHT
BEGIN:STANDARD
TZOFFSETFROM:-0400
TZOFFSETTO:-0500
TZNAME:EST
DTSTART:20261101T060000
END:STANDARD
BEGIN:DAYLIGHT
TZOFFSETFROM:-0500
TZOFFSETTO:-0400
TZNAME:EDT
DTSTART:20270314T070000
END:DAYLIGHT
BEGIN:STANDARD
TZOFFSETFROM:-0400
TZOFFSETTO:-0500
TZNAME:EST
DTSTART:20271107T060000
END:STANDARD
END:VTIMEZONE
BEGIN:VEVENT
DTSTART;TZID=America/New_York:20260321T170000
DTEND;TZID=America/New_York:20260321T200000
DTSTAMP:20260423T031901
CREATED:20250811T212153Z
LAST-MODIFIED:20260318T145512Z
UID:216613-1774112400-1774123200@midcoastarea.org
SUMMARY:MCCNA Annual Sponsorship Family Dinner
DESCRIPTION:MCCNA Annual Sponsorship Family Dinner\n\nSaturday March 21st at 5:00PM \nTickets are $15 in advance and $20 at the door
URL:https://midcoastarea.org/event/mccna-halloween-party-2/
LOCATION:Church of the Palms\, 1960 N Swinton Ave\, Delray Beach\, FL\, 33444\, United States
END:VEVENT
END:VCALENDAR